BEGIN:VCALENDAR
VERSION:2.0
PRODID:-//Wild Oak Golf Course - ECPv6.15.20//NONSGML v1.0//EN
CALSCALE:GREGORIAN
METHOD:PUBLISH
X-WR-CALNAME:Wild Oak Golf Course
X-ORIGINAL-URL:https://www.wildoakgolfcourse.com
X-WR-CALDESC:Events for Wild Oak Golf Course
REFRESH-INTERVAL;VALUE=DURATION:PT1H
X-Robots-Tag:noindex
X-PUBLISHED-TTL:PT1H
BEGIN:VTIMEZONE
TZID:America/Chicago
BEGIN:DAYLIGHT
TZOFFSETFROM:-0600
TZOFFSETTO:-0500
TZNAME:CDT
DTSTART:20250309T080000
END:DAYLIGHT
BEGIN:STANDARD
TZOFFSETFROM:-0500
TZOFFSETTO:-0600
TZNAME:CST
DTSTART:20251102T070000
END:STANDARD
BEGIN:DAYLIGHT
TZOFFSETFROM:-0600
TZOFFSETTO:-0500
TZNAME:CDT
DTSTART:20260308T080000
END:DAYLIGHT
BEGIN:STANDARD
TZOFFSETFROM:-0500
TZOFFSETTO:-0600
TZNAME:CST
DTSTART:20261101T070000
END:STANDARD
BEGIN:DAYLIGHT
TZOFFSETFROM:-0600
TZOFFSETTO:-0500
TZNAME:CDT
DTSTART:20270314T080000
END:DAYLIGHT
BEGIN:STANDARD
TZOFFSETFROM:-0500
TZOFFSETTO:-0600
TZNAME:CST
DTSTART:20271107T070000
END:STANDARD
END:VTIMEZONE
BEGIN:VEVENT
DTSTART;TZID=America/Chicago:20260501T080000
DTEND;TZID=America/Chicago:20260501T170000
DTSTAMP:20260424T072416
CREATED:20260417T152636Z
LAST-MODIFIED:20260417T152636Z
UID:1836-1777622400-1777654800@www.wildoakgolfcourse.com
SUMMARY:Mitchell Grade School
DESCRIPTION:
URL:https://www.wildoakgolfcourse.com/event/mitchell-grade-school/
LOCATION:Wild Oak Golf Course\, Legacy Links LLC\, 2500 E 1st Ave\, Mitchell\, South Dakota\, 57301\, United States
CATEGORIES:Tournaments
END:VEVENT
BEGIN:VEVENT
DTSTART;TZID=America/Chicago:20260606T080000
DTEND;TZID=America/Chicago:20260606T170000
DTSTAMP:20260424T072416
CREATED:20260417T152812Z
LAST-MODIFIED:20260417T152812Z
UID:1838-1780732800-1780765200@www.wildoakgolfcourse.com
SUMMARY:Mitchell Hockey 4-Man
DESCRIPTION:
URL:https://www.wildoakgolfcourse.com/event/mitchell-hockey-4-man/
LOCATION:Wild Oak Golf Course\, Legacy Links LLC\, 2500 E 1st Ave\, Mitchell\, South Dakota\, 57301\, United States
CATEGORIES:Tournaments
END:VEVENT
BEGIN:VEVENT
DTSTART;TZID=America/Chicago:20260613T080000
DTEND;TZID=America/Chicago:20260613T170000
DTSTAMP:20260424T072416
CREATED:20260417T153129Z
LAST-MODIFIED:20260417T153334Z
UID:1840-1781337600-1781370000@www.wildoakgolfcourse.com
SUMMARY:Hadley Wallace Memorial 4-Person
DESCRIPTION:
URL:https://www.wildoakgolfcourse.com/event/hadley-wallace-memorial-4-person/
LOCATION:Wild Oak Golf Course\, Legacy Links LLC\, 2500 E 1st Ave\, Mitchell\, South Dakota\, 57301\, United States
CATEGORIES:Tournaments
END:VEVENT
BEGIN:VEVENT
DTSTART;TZID=America/Chicago:20260620T080000
DTEND;TZID=America/Chicago:20260620T170000
DTSTAMP:20260424T072416
CREATED:20260417T153301Z
LAST-MODIFIED:20260417T153301Z
UID:1842-1781942400-1781974800@www.wildoakgolfcourse.com
SUMMARY:Mitchell Wrestling 4-Man
DESCRIPTION:
URL:https://www.wildoakgolfcourse.com/event/mitchell-wrestling-4-man/
LOCATION:Wild Oak Golf Course\, Legacy Links LLC\, 2500 E 1st Ave\, Mitchell\, South Dakota\, 57301\, United States
CATEGORIES:Tournaments
END:VEVENT
BEGIN:VEVENT
DTSTART;VALUE=DATE:20260627
DTEND;VALUE=DATE:20260628
DTSTAMP:20260424T072416
CREATED:20260417T153415Z
LAST-MODIFIED:20260423T205227Z
UID:1844-1782518400-1782604799@www.wildoakgolfcourse.com
SUMMARY:Blarney's Ladies 4-Woman
DESCRIPTION:
URL:https://www.wildoakgolfcourse.com/event/blarneys-ladies-4-woman/
LOCATION:Wild Oak Golf Course\, Legacy Links LLC\, 2500 E 1st Ave\, Mitchell\, South Dakota\, 57301\, United States
CATEGORIES:Tournaments
END:VEVENT
BEGIN:VEVENT
DTSTART;TZID=America/Chicago:20260703T210000
DTEND;TZID=America/Chicago:20260703T233000
DTSTAMP:20260424T072416
CREATED:20260417T153552Z
LAST-MODIFIED:20260417T153552Z
UID:1846-1783112400-1783121400@www.wildoakgolfcourse.com
SUMMARY:Wild Oak Glow Ball
DESCRIPTION:
URL:https://www.wildoakgolfcourse.com/event/wild-oak-glow-ball/
LOCATION:Wild Oak Golf Course\, Legacy Links LLC\, 2500 E 1st Ave\, Mitchell\, South Dakota\, 57301\, United States
CATEGORIES:Tournaments
END:VEVENT
BEGIN:VEVENT
DTSTART;TZID=America/Chicago:20260710T173000
DTEND;TZID=America/Chicago:20260710T220000
DTSTAMP:20260424T072416
CREATED:20260417T153827Z
LAST-MODIFIED:20260417T162427Z
UID:1850-1783704600-1783720800@www.wildoakgolfcourse.com
SUMMARY:Wild Oak Couples 9-Hole
DESCRIPTION:
URL:https://www.wildoakgolfcourse.com/event/wild-oak-couples-9-hole/
LOCATION:Wild Oak Golf Course\, Legacy Links LLC\, 2500 E 1st Ave\, Mitchell\, South Dakota\, 57301\, United States
CATEGORIES:Tournaments
END:VEVENT
BEGIN:VEVENT
DTSTART;TZID=America/Chicago:20260718T080000
DTEND;TZID=America/Chicago:20260718T170000
DTSTAMP:20260424T072416
CREATED:20260417T153704Z
LAST-MODIFIED:20260417T153704Z
UID:1848-1784361600-1784394000@www.wildoakgolfcourse.com
SUMMARY:Blarney's 2 Man
DESCRIPTION:
URL:https://www.wildoakgolfcourse.com/event/blarneys-2-man/
LOCATION:Wild Oak Golf Course\, Legacy Links LLC\, 2500 E 1st Ave\, Mitchell\, South Dakota\, 57301\, United States
CATEGORIES:Tournaments
END:VEVENT
BEGIN:VEVENT
DTSTART;TZID=America/Chicago:20260724T170000
DTEND;TZID=America/Chicago:20260724T220000
DTSTAMP:20260424T072416
CREATED:20260417T154020Z
LAST-MODIFIED:20260417T160840Z
UID:1852-1784912400-1784930400@www.wildoakgolfcourse.com
SUMMARY:Poker Run / Family Night
DESCRIPTION:
URL:https://www.wildoakgolfcourse.com/event/poker-run-family-night/
LOCATION:Wild Oak Golf Course\, Legacy Links LLC\, 2500 E 1st Ave\, Mitchell\, South Dakota\, 57301\, United States
CATEGORIES:Events at Wild Oak
END:VEVENT
BEGIN:VEVENT
DTSTART;TZID=America/Chicago:20260725T080000
DTEND;TZID=America/Chicago:20260725T170000
DTSTAMP:20260424T072416
CREATED:20260417T160742Z
LAST-MODIFIED:20260417T160742Z
UID:1856-1784966400-1784998800@www.wildoakgolfcourse.com
SUMMARY:Fairway Fest
DESCRIPTION:Music by Dustin Evans
URL:https://www.wildoakgolfcourse.com/event/fairway-fest/
LOCATION:Wild Oak Golf Course\, Legacy Links LLC\, 2500 E 1st Ave\, Mitchell\, South Dakota\, 57301\, United States
CATEGORIES:Events at Wild Oak
END:VEVENT
BEGIN:VEVENT
DTSTART;TZID=America/Chicago:20260725T100000
DTEND;TZID=America/Chicago:20260725T170000
DTSTAMP:20260424T072416
CREATED:20260417T160636Z
LAST-MODIFIED:20260420T190231Z
UID:1854-1784973600-1784998800@www.wildoakgolfcourse.com
SUMMARY:Gary Kristensen Memorial Couples Tounament
DESCRIPTION:2 Couples per team.
URL:https://www.wildoakgolfcourse.com/event/gary-kristensen-4-person-scramble/
LOCATION:Wild Oak Golf Course\, Legacy Links LLC\, 2500 E 1st Ave\, Mitchell\, South Dakota\, 57301\, United States
CATEGORIES:Tournaments
END:VEVENT
BEGIN:VEVENT
DTSTART;VALUE=DATE:20260801
DTEND;VALUE=DATE:20260802
DTSTAMP:20260424T072416
CREATED:20260417T161024Z
LAST-MODIFIED:20260417T161024Z
UID:1858-1785542400-1785628799@www.wildoakgolfcourse.com
SUMMARY:Hanson Golf Fundraiser
DESCRIPTION:
URL:https://www.wildoakgolfcourse.com/event/hanson-golf-fundraiser/
LOCATION:Wild Oak Golf Course\, Legacy Links LLC\, 2500 E 1st Ave\, Mitchell\, South Dakota\, 57301\, United States
CATEGORIES:Tournaments
END:VEVENT
BEGIN:VEVENT
DTSTART;VALUE=DATE:20260806
DTEND;VALUE=DATE:20260809
DTSTAMP:20260424T072416
CREATED:20260417T161200Z
LAST-MODIFIED:20260417T161456Z
UID:1860-1785974400-1786233599@www.wildoakgolfcourse.com
SUMMARY:Corn Palace Invitational
DESCRIPTION:Contact: cornpalaceinvite@gmail.com
URL:https://www.wildoakgolfcourse.com/event/corn-palace-invite/
LOCATION:Wild Oak Golf Course\, Legacy Links LLC\, 2500 E 1st Ave\, Mitchell\, South Dakota\, 57301\, United States
CATEGORIES:Tournaments
END:VEVENT
BEGIN:VEVENT
DTSTART;VALUE=DATE:20260816
DTEND;VALUE=DATE:20260817
DTSTAMP:20260424T072416
CREATED:20260417T161435Z
LAST-MODIFIED:20260417T161435Z
UID:1863-1786838400-1786924799@www.wildoakgolfcourse.com
SUMMARY:Teegan's Light Fundraiser 4-Person Scramble
DESCRIPTION:
URL:https://www.wildoakgolfcourse.com/event/teegans-light-fundraiser-4-person-scramble/
LOCATION:Wild Oak Golf Course\, Legacy Links LLC\, 2500 E 1st Ave\, Mitchell\, South Dakota\, 57301\, United States
CATEGORIES:Tournaments
END:VEVENT
BEGIN:VEVENT
DTSTART;VALUE=DATE:20260821
DTEND;VALUE=DATE:20260822
DTSTAMP:20260424T072416
CREATED:20260417T161545Z
LAST-MODIFIED:20260417T161545Z
UID:1865-1787270400-1787356799@www.wildoakgolfcourse.com
SUMMARY:Great Plains Senior Tour 2-Man
DESCRIPTION:
URL:https://www.wildoakgolfcourse.com/event/great-plains-senior-tour-2-man/
LOCATION:Wild Oak Golf Course\, Legacy Links LLC\, 2500 E 1st Ave\, Mitchell\, South Dakota\, 57301\, United States
CATEGORIES:Tournaments
END:VEVENT
BEGIN:VEVENT
DTSTART;VALUE=DATE:20260822
DTEND;VALUE=DATE:20260823
DTSTAMP:20260424T072416
CREATED:20260417T161705Z
LAST-MODIFIED:20260417T161705Z
UID:1867-1787356800-1787443199@www.wildoakgolfcourse.com
SUMMARY:Dakota Wesleyan University Basketball
DESCRIPTION:
URL:https://www.wildoakgolfcourse.com/event/dakota-wesleyan-university-basketball/
LOCATION:Wild Oak Golf Course\, Legacy Links LLC\, 2500 E 1st Ave\, Mitchell\, South Dakota\, 57301\, United States
CATEGORIES:Tournaments
END:VEVENT
BEGIN:VEVENT
DTSTART;VALUE=DATE:20260829
DTEND;VALUE=DATE:20260830
DTSTAMP:20260424T072416
CREATED:20260417T161744Z
LAST-MODIFIED:20260417T161744Z
UID:1869-1787961600-1788047999@www.wildoakgolfcourse.com
SUMMARY:The Diamond Store Couples
DESCRIPTION:
URL:https://www.wildoakgolfcourse.com/event/the-diamond-store-couples/
LOCATION:Wild Oak Golf Course\, Legacy Links LLC\, 2500 E 1st Ave\, Mitchell\, South Dakota\, 57301\, United States
CATEGORIES:Tournaments
END:VEVENT
BEGIN:VEVENT
DTSTART;VALUE=DATE:20260918
DTEND;VALUE=DATE:20260919
DTSTAMP:20260424T072416
CREATED:20260417T161849Z
LAST-MODIFIED:20260417T161849Z
UID:1871-1789689600-1789775999@www.wildoakgolfcourse.com
SUMMARY:Great Plains Senior Tour Gary Kristensen Memorial 2-Man
DESCRIPTION:
URL:https://www.wildoakgolfcourse.com/event/great-plains-senior-tour-gary-kristensen-memorial-2-man/
LOCATION:Wild Oak Golf Course\, Legacy Links LLC\, 2500 E 1st Ave\, Mitchell\, South Dakota\, 57301\, United States
CATEGORIES:Tournaments
END:VEVENT
BEGIN:VEVENT
DTSTART;VALUE=DATE:20260919
DTEND;VALUE=DATE:20260920
DTSTAMP:20260424T072416
CREATED:20260417T162012Z
LAST-MODIFIED:20260417T162012Z
UID:1875-1789776000-1789862399@www.wildoakgolfcourse.com
SUMMARY:Wild Oak 4-Person Scramble
DESCRIPTION:
URL:https://www.wildoakgolfcourse.com/event/wild-oak-4-person-scramble/
LOCATION:Wild Oak Golf Course\, Legacy Links LLC\, 2500 E 1st Ave\, Mitchell\, South Dakota\, 57301\, United States
CATEGORIES:Tournaments
END:VEVENT
BEGIN:VEVENT
DTSTART;TZID=America/Chicago:20260926T080000
DTEND;TZID=America/Chicago:20260926T170000
DTSTAMP:20260424T072416
CREATED:20260417T161925Z
LAST-MODIFIED:20260417T161925Z
UID:1873-1790409600-1790442000@www.wildoakgolfcourse.com
SUMMARY:Dakota Wesleyan University Baseball
DESCRIPTION:
URL:https://www.wildoakgolfcourse.com/event/dakota-wesleyan-university-baseball/
LOCATION:Wild Oak Golf Course\, Legacy Links LLC\, 2500 E 1st Ave\, Mitchell\, South Dakota\, 57301\, United States
CATEGORIES:Tournaments
END:VEVENT
BEGIN:VEVENT
DTSTART;VALUE=DATE:20261001
DTEND;VALUE=DATE:20261101
DTSTAMP:20260424T072416
CREATED:20260417T162139Z
LAST-MODIFIED:20260417T162230Z
UID:1877-1790812800-1793491199@www.wildoakgolfcourse.com
SUMMARY:End of Year Tournament
DESCRIPTION:Date yet to be Determined
URL:https://www.wildoakgolfcourse.com/event/end-of-year-tournament/
LOCATION:Wild Oak Golf Course\, Legacy Links LLC\, 2500 E 1st Ave\, Mitchell\, South Dakota\, 57301\, United States
CATEGORIES:Tournaments
END:VEVENT
END:VCALENDAR